BEGIN:VCALENDAR
VERSION:2.0
PRODID:-//hacksw/handcal//NONSGML v1.0//EN
CALSCALE:GREGORIAN
BEGIN:VEVENT
ORGANIZER;CN=Avery Dennison Corporation:MAILTO:no-reply@mail.gcs-web.com
DTEND:
UID:d58c7844-4dc6-4aff-9184-39acb587ecb7
DTSTAMP:1619112316
LOCATION:http://www.investors.averydennison.com/events/event-details/q1-2021-avery-dennison-corporation-earnings-release
DESCRIPTION:Event Details http://www.investors.averydennison.com/events/event-details/q1-2021-avery-dennison-corporation-earnings-release
URL;VALUE=URI:http://www.investors.averydennison.com/events/event-details/q1-2021-avery-dennison-corporation-earnings-release
SUMMARY:Avery Dennison Corporation - Q1 2021 Avery Dennison Corporation Earnings Release
DTSTART:20210428T104500Z
END:VEVENT
END:VCALENDAR